BEGIN:VCALENDAR
VERSION:2.0
PRODID:-//Dans l&#039;Oeil du Silo - ECPv6.15.20//NONSGML v1.0//EN
CALSCALE:GREGORIAN
METHOD:PUBLISH
X-WR-CALNAME:Dans l&#039;Oeil du Silo
X-ORIGINAL-URL:https://www.dansloeildusilo.fr
X-WR-CALDESC:Évènements pour Dans l&#039;Oeil du Silo
REFRESH-INTERVAL;VALUE=DURATION:PT1H
X-Robots-Tag:noindex
X-PUBLISHED-TTL:PT1H
BEGIN:VTIMEZONE
TZID:Europe/Paris
BEGIN:DAYLIGHT
TZOFFSETFROM:+0100
TZOFFSETTO:+0200
TZNAME:CEST
DTSTART:20240331T010000
END:DAYLIGHT
BEGIN:STANDARD
TZOFFSETFROM:+0200
TZOFFSETTO:+0100
TZNAME:CET
DTSTART:20241027T010000
END:STANDARD
BEGIN:DAYLIGHT
TZOFFSETFROM:+0100
TZOFFSETTO:+0200
TZNAME:CEST
DTSTART:20250330T010000
END:DAYLIGHT
BEGIN:STANDARD
TZOFFSETFROM:+0200
TZOFFSETTO:+0100
TZNAME:CET
DTSTART:20251026T010000
END:STANDARD
BEGIN:DAYLIGHT
TZOFFSETFROM:+0100
TZOFFSETTO:+0200
TZNAME:CEST
DTSTART:20260329T010000
END:DAYLIGHT
BEGIN:STANDARD
TZOFFSETFROM:+0200
TZOFFSETTO:+0100
TZNAME:CET
DTSTART:20261025T010000
END:STANDARD
END:VTIMEZONE
BEGIN:VEVENT
DTSTART;TZID=Europe/Paris:20251220T183000
DTEND;TZID=Europe/Paris:20251220T233000
DTSTAMP:20260421T121701
CREATED:20251126T171407Z
LAST-MODIFIED:20251126T171428Z
UID:7277-1766255400-1766273400@www.dansloeildusilo.fr
SUMMARY:JOEY GLÜTEN + LES CRÉTACÉS + SOCIALE CHORALE PUNK
DESCRIPTION:Sociale Chorale Punk (SCP)\nLa SCP est un collectif de potes assoiffés de morceaux engagés en tout genre\, aux influences diverses et variées.Elle se compose de quelques musiciens et d’une vingtaine de chanteurs.\n\n  \n Les Crétacés\nTirant leur nom de leur territoire primitif de la Vallée du Coran (dont le Paléosite de St Césaire (17) en est la vitrine). Ces trois fossiles se retrouvent aux alentours de l’an 2004 après J.C. autour d’une passion commune : le Punk-Rock.\nMais les Crétacés n’en sont pas à leur 1er coup d’essai et s’extirpent d’horizons musicaux variés de la scène Saintongeaise.Ils nous livrent un répertoire « punk Jurassik » aux accents français des plus explosifs.\n2007 marquera les 30 ans du punk et un concert à cette occasion\, qui devait être leur dernier. PUNK’s so DEAD!Mais les trois Homo Sapiens Crétus se réveillent enfin de leur période d’hibernation et ressortent du terrier de bons vieux riffs à la sauce kepon\, street-punk 80’s\, au bon goût de bière et de pogo.\nPresque mythique\, bien trop merdique\, ce trio leur a permis à une autre ère de partager la scène avec entre autres :Tagada Jones\, les Ramoneurs de Menhirs\, Elmer Food Beat\, Washington Dead Cats\, Banane Metalik\, Dirty Fonzy\, Nevrotic Explosion\, Condkoi…\n\n  \nJoey Glüten\nJoey Glüten est un auteur-compositeur punk et membre du groupe Mégadef. Il se distingue par une écriture brute\, engagée et sans filtre\, mêlant chanson à texte et énergie punk acoustique.\nEn solo\, il sort en 2022 son premier album S’entretuer jusqu’à la mort (et puis mourir)\, qui pose les bases de son style : sincère\, frontal et profondément humain. Il enchaîne ensuite singles et concerts\, développant une identité musicale DIY et militante.\nEn 2024\, il publie deux albums : Pardon (reprises) et Je brûlerai la société en ta mémoire mon frère\, qui rassemble ses titres sortis depuis 2022 avec quelques inédits. Joey Glüten est aujourd’hui reconnu dans la scène alternative pour sa sensibilité\, son authenticité et sa capacité à toucher autant qu’à secouer.\n\nInsta : https://www.instagram.com/joey.gluten/?hl=frYoutube: https://www.youtube.com/@joeyglutenmegadefBamcamp: https://schlassballstudio.bandcamp.com/…/schlass-ball…Site internet ; https://chez-simone.fr/joey-gluten/?utm_source=ig…\n\n  \nTARIFSPréventes : 6 €Sur place : 8 € ( Tarif réduit à 8€ sur place pour les Étudiant\, Chômeur\, RSA – sur justificatif)Réservez dès maintenant sur HelloAssoLien vers HelloAsso : ICI\n  \nINFOS PRATIQUES: Ouverture des portes à 19HFermeture du site à 2H\, prévoyez un SAMInterdiction de rentrer dans le silo avec son propre alcoolCB acceptéBar ( prix doux )Foodtruck !97 Rue Taillebourg\, 17100 Saintes1h15 de Bordeaux50 min de La Rochelle50 min de Niort1h de AngoulêmeGare SNCF à 10 min à piedAcces PMRMineurs acceptés avec accompagnant\nNous ne tolérons aucune forme de discriminations\, de harcèlement et de violences.Nous bannissons tout comportement RACISTE\, SEXISTE\, HOMOPHOBE\, TRANSPHOBE et tout autre comportements OPPRESSIFS quels qu’ils soient.Si vous êtes témoin ou victime de comportements problématiques\, déplacés ou dangereux\, merci de prévenir directement un membre du staff.
URL:https://www.dansloeildusilo.fr/index.php/event/joey-gluten-les-cretaces-sociale-chorale-punk/
LOCATION:Dans l’œil du Silo\, 97 rue de Taillebourg\, Saintes\, Charente Maritime\, 17100\, France
CATEGORIES:inédit
ORGANIZER;CN="Dans l'%C5%93il du Silo":MAILTO:dansloeildusilo@gmail.com
END:VEVENT
END:VCALENDAR