BEGIN:VCALENDAR
VERSION:2.0
PRODID:-//Dans l&#039;Oeil du Silo - ECPv6.15.20//NONSGML v1.0//EN
CALSCALE:GREGORIAN
METHOD:PUBLISH
X-WR-CALNAME:Dans l&#039;Oeil du Silo
X-ORIGINAL-URL:https://www.dansloeildusilo.fr
X-WR-CALDESC:Évènements pour Dans l&#039;Oeil du Silo
REFRESH-INTERVAL;VALUE=DURATION:PT1H
X-Robots-Tag:noindex
X-PUBLISHED-TTL:PT1H
BEGIN:VTIMEZONE
TZID:Europe/Paris
BEGIN:DAYLIGHT
TZOFFSETFROM:+0100
TZOFFSETTO:+0200
TZNAME:CEST
DTSTART:20240331T010000
END:DAYLIGHT
BEGIN:STANDARD
TZOFFSETFROM:+0200
TZOFFSETTO:+0100
TZNAME:CET
DTSTART:20241027T010000
END:STANDARD
BEGIN:DAYLIGHT
TZOFFSETFROM:+0100
TZOFFSETTO:+0200
TZNAME:CEST
DTSTART:20250330T010000
END:DAYLIGHT
BEGIN:STANDARD
TZOFFSETFROM:+0200
TZOFFSETTO:+0100
TZNAME:CET
DTSTART:20251026T010000
END:STANDARD
BEGIN:DAYLIGHT
TZOFFSETFROM:+0100
TZOFFSETTO:+0200
TZNAME:CEST
DTSTART:20260329T010000
END:DAYLIGHT
BEGIN:STANDARD
TZOFFSETFROM:+0200
TZOFFSETTO:+0100
TZNAME:CET
DTSTART:20261025T010000
END:STANDARD
END:VTIMEZONE
BEGIN:VEVENT
DTSTART;TZID=Europe/Paris:20251114T200000
DTEND;TZID=Europe/Paris:20251114T233000
DTSTAMP:20260421T120649
CREATED:20251113T183408Z
LAST-MODIFIED:20251113T183408Z
UID:7232-1763150400-1763163000@www.dansloeildusilo.fr
SUMMARY:Événement tekno spontané au Silo !
DESCRIPTION:BOOM !\nUne soirée surprise débarque au Silo !\nAvec une session live teKno improvisée menée par Rainett & Beug\, à laquelle s’ajoute Butternut. Tous trois issus du Collectif Block Chain & également bénévoles du Silo. \nC’est demain soir au Silo\, c’est de l’impro\, entrée libre et sans chichi
URL:https://www.dansloeildusilo.fr/index.php/event/evenement-tekno-spontane-au-silo/
LOCATION:Dans l’œil du Silo\, 97 rue de Taillebourg\, Saintes\, Charente Maritime\, 17100\, France
CATEGORIES:inédit
ORGANIZER;CN="Dans l'%C5%93il du Silo":MAILTO:dansloeildusilo@gmail.com
END:VEVENT
END:VCALENDAR