BEGIN:VCALENDAR
VERSION:2.0
PRODID:-//Dans l&#039;Oeil du Silo - ECPv6.15.20//NONSGML v1.0//EN
CALSCALE:GREGORIAN
METHOD:PUBLISH
X-ORIGINAL-URL:https://www.dansloeildusilo.fr
X-WR-CALDESC:Évènements pour Dans l&#039;Oeil du Silo
REFRESH-INTERVAL;VALUE=DURATION:PT1H
X-Robots-Tag:noindex
X-PUBLISHED-TTL:PT1H
BEGIN:VTIMEZONE
TZID:Europe/Paris
BEGIN:DAYLIGHT
TZOFFSETFROM:+0100
TZOFFSETTO:+0200
TZNAME:CEST
DTSTART:20240331T010000
END:DAYLIGHT
BEGIN:STANDARD
TZOFFSETFROM:+0200
TZOFFSETTO:+0100
TZNAME:CET
DTSTART:20241027T010000
END:STANDARD
BEGIN:DAYLIGHT
TZOFFSETFROM:+0100
TZOFFSETTO:+0200
TZNAME:CEST
DTSTART:20250330T010000
END:DAYLIGHT
BEGIN:STANDARD
TZOFFSETFROM:+0200
TZOFFSETTO:+0100
TZNAME:CET
DTSTART:20251026T010000
END:STANDARD
BEGIN:DAYLIGHT
TZOFFSETFROM:+0100
TZOFFSETTO:+0200
TZNAME:CEST
DTSTART:20260329T010000
END:DAYLIGHT
BEGIN:STANDARD
TZOFFSETFROM:+0200
TZOFFSETTO:+0100
TZNAME:CET
DTSTART:20261025T010000
END:STANDARD
END:VTIMEZONE
BEGIN:VEVENT
DTSTART;TZID=Europe/Paris:20251108T200000
DTEND;TZID=Europe/Paris:20251108T233000
DTSTAMP:20260421T122024
CREATED:20251020T171516Z
LAST-MODIFIED:20251106T034150Z
UID:6458-1762632000-1762644600@www.dansloeildusilo.fr
SUMMARY:TRISTAN BRES et MLD en live au Silo
DESCRIPTION:Un événement 100 % Électro arrive au Silo\n  \n Samedi 8 Novembre |  20h – 02h | Dans L’Œil du Silo\n\nPréparez-vous à vivre une soirée avec deux artistes de talent : TRISTAN BRES & MLD.\nUn combo qui vous fera voyager à travers une recherche sonore riche et inspirée\, portée par des vibes électro et immersives qui vous transporteront tout au long de la soirée!\n\n  \nTRISTAN BRES\nAprès avoir joué dans les clubs de jazz à Paris en tant que bassiste\, et accompagné en tournée des artistes comme Sinclair\, Tristan Bres se spécialise dans la composition.Il collabore notamment avec des labels comme Universal\, Sony Music\, Ninja Tune\, No Format ou encore BOriginal…\nOpérant sous plusieurs pseudonymes\, il travaille en tant que remixer\, compositeur ou arrangeur avec des artistes comme Howie B\, Telepopmusik\, Fink\, Melissa Laveaux\, Love Supreme\, John Shepherd\, Madjo…Il compose aussi des BO de films et des musiques originales de ballets contemporains\, avant de développer son propre projet artistique en 2021.\nLe producteur Howie B (Massive Attack\, Björk\, Tricky\, U2…) produira son premier disque en 2022\, et le fera jouer dans les clubs de Londres\, et en Asie dans le festival “Wonderfruit”.\nImprégné par des artistes comme Jon Hopkins\, Boards of Canada\, Nils Frahm\, Radiohead ou encore Philip Glass\, son univers est un mélange de nombreuses influences issues de la musique électronique\, mais aussi de la musique de film\, de la pop\, du jazz et de la world.\nSur scène\, il se produit accompagné par son ami Nicolas Liesnard aux claviers (Mayra Andrade\, Hindi Zahra\, Oumou Sangare\, Hugh Coltman\, Catherine Ringer…).\n\n Une nouvelle vibration est née… Un souffle inédit traverse les sillons : un album tout juste éclos.\nAu Silo\, les vinyles fraîchement pressés vous attendent\, empreints de cette énergie brute et vibrante. Venez écouter\, ressentir… et repartir avec un fragment de cette aventure sonore.\n\nLiens :Youtube : https://www.youtube.com/@tristanbasseSoundcloud: https://soundcloud.com/tristan-bresSpotify : https://open.spotify.com/…/artist/0JDHekjH4UPw273KT1mLuI\n  \nMLD\, connu également sous le nom de DJ Moule\n  \n\nMLD est le projet solo de Stéphane Mourgues (Hello Bye Bye\, Dj Moule)\, évoluant entre techno acide et sons synthwave rétro-futuristes\, plantant le décor dans un univers dystopique de science-fiction où la guerre éclate entre humains et machines.\nMLD se situe au carrefour des deux cultures préférées de Stéphane : la pop et la techno. D’une part\, la scène Acid Techno de la fin des années 90\, d’autre part\, les groupes qui ont maîtrisé le croisement des sons et des genres tels que Chemical Brothers\, Vitalic\, Underworld\, Lcd Soundsystem et Death in Vegas.\nLe musicien affectionne particulièrement les sons acides générés par le légendaire Roland TB303 et se situe sur une ligne médiane entre Arnaud Rebotini pour son approche brute de la musique live et French79 pour son approche pop de la techno.\n\nLiens :https://linktr.ee/mldsynthRadio France-Inter : https://www.radiofrance.fr/…/cote-club-du-vendredi-12…Dizzer : https://www.deezer.com/fr/artist/116080232Nouveau EP : https://lnk.to/mld-lightsSpotify : https://open.spotify.com/…/1UKCjYAjIHdLyAybwviZK9…Soundcloud : https://soundcloud.com/mldsynth\n\n\nTARIFS\nPréventes : 8 €Sur place : 10 € ( Tarif réduit à 8€ sur place pour les Étudiant\, Chômeur\, RSA – sur justificatif)Réservez dès maintenant sur HelloAsso \nLien vers HelloAsso ; https://www.helloasso.com/…/tristan-bres-et-mld-en-live…\n\n\nINFOS PRATIQUES\nOuverture des portes à 19HFermeture du site à 2H\, prévoyez un SAMInterdiction de rentrer dans le silo avec son propre alcoolCB acceptéBar ( prix doux )Foodtruck !97 Rue Taillebourg\, 17100 Saintes1h15 de Bordeaux50 min de La Rochelle50 min de Niort1h de AngoulêmeGare SNCF à 10 min à piedAcces PMRMineurs acceptés avec accompagnant\n\nNous ne tolérons aucune forme de discriminations\, de harcèlement et de violences.Nous bannissons tout comportement RACISTE\, SEXISTE\, HOMOPHOBE\, TRANSPHOBE et tout autre comportements OPPRESSIFS quels qu’ils soient.Si vous êtes témoin ou victime de comportements problématiques\, déplacés ou dangereux\, merci de prévenir directement un membre du staff.
URL:https://www.dansloeildusilo.fr/index.php/event/tristan-bres-et-mld-en-live-au-silo/
LOCATION:Dans l’œil du Silo\, 97 rue de Taillebourg\, Saintes\, Charente Maritime\, 17100\, France
CATEGORIES:inédit
ORGANIZER;CN="Dans l'%C5%93il du Silo":MAILTO:dansloeildusilo@gmail.com
END:VEVENT
END:VCALENDAR