BEGIN:VCALENDAR
VERSION:2.0
PRODID:-//Dans l&#039;Oeil du Silo - ECPv6.15.20//NONSGML v1.0//EN
CALSCALE:GREGORIAN
METHOD:PUBLISH
X-ORIGINAL-URL:https://www.dansloeildusilo.fr
X-WR-CALDESC:Évènements pour Dans l&#039;Oeil du Silo
REFRESH-INTERVAL;VALUE=DURATION:PT1H
X-Robots-Tag:noindex
X-PUBLISHED-TTL:PT1H
BEGIN:VTIMEZONE
TZID:Europe/Paris
BEGIN:DAYLIGHT
TZOFFSETFROM:+0100
TZOFFSETTO:+0200
TZNAME:CEST
DTSTART:20240331T010000
END:DAYLIGHT
BEGIN:STANDARD
TZOFFSETFROM:+0200
TZOFFSETTO:+0100
TZNAME:CET
DTSTART:20241027T010000
END:STANDARD
BEGIN:DAYLIGHT
TZOFFSETFROM:+0100
TZOFFSETTO:+0200
TZNAME:CEST
DTSTART:20250330T010000
END:DAYLIGHT
BEGIN:STANDARD
TZOFFSETFROM:+0200
TZOFFSETTO:+0100
TZNAME:CET
DTSTART:20251026T010000
END:STANDARD
BEGIN:DAYLIGHT
TZOFFSETFROM:+0100
TZOFFSETTO:+0200
TZNAME:CEST
DTSTART:20260329T010000
END:DAYLIGHT
BEGIN:STANDARD
TZOFFSETFROM:+0200
TZOFFSETTO:+0100
TZNAME:CET
DTSTART:20261025T010000
END:STANDARD
END:VTIMEZONE
BEGIN:VEVENT
DTSTART;TZID=Europe/Paris:20250621T170000
DTEND;TZID=Europe/Paris:20250621T233000
DTSTAMP:20260421T115000
CREATED:20250603T164910Z
LAST-MODIFIED:20251106T033858Z
UID:5426-1750525200-1750548600@www.dansloeildusilo.fr
SUMMARY:Fête de la musique 2025 au Silo
DESCRIPTION:Le Collectif Block Chain et Dans l’Oeil du Silo s’associent et vous prépare une soirée démentielle à l’occasion de la fête de la musique 2025 !\n  \n\n\nAu programme :\n2 SCÈNES 2 SHOW LIGHTS 2 MAPPING 2 FAT DECO 2 BAR et + encore…\n\nHoraires : 17H00 > 5H00 Entrée gratuite pour toutes et tous\n\n INFOS PRATIQUES :\n\n Ouverture des portes à 17H  Fermeture du site à 5H\, autoriser un SAM  Interdiction de rentrer dans le silo avec son propre alcool  CB accepté  Bar ( prix doux ) Restauration sur place  97 Rue Taillebourg\, 17100 Saintes 1h15 de Bordeaux 50 min de La Rochelle 50 min de Niort 1h de Angoulême Gare SNCF à 10 min à pied Acces PMR Mineurs acceptés avec accompagnant Nous ne tolérons aucune forme de discriminations\, de harcèlement et de violences. Nous bannissons tout comportement RACISTE\, SEXISTE\, HOMOPHOBE\, TRANSPHOBE et tout autre comportement OPPRESSIFS quels qu’ils soient. Si vous êtes témoin ou victime de problématiques\, déplacés ou dangereux\, merci de prévenir directement un membre du personnel
URL:https://www.dansloeildusilo.fr/index.php/event/fete-de-la-musique-2025-au-silo/
LOCATION:Dans l’œil du Silo\, 97 rue de Taillebourg\, Saintes\, Charente Maritime\, 17100\, France
CATEGORIES:inédit
ORGANIZER;CN="Dans l'%C5%93il du Silo":MAILTO:dansloeildusilo@gmail.com
END:VEVENT
END:VCALENDAR