BEGIN:VCALENDAR
VERSION:2.0
PRODID:-//Dans l&#039;Oeil du Silo - ECPv6.15.20//NONSGML v1.0//EN
CALSCALE:GREGORIAN
METHOD:PUBLISH
X-WR-CALNAME:Dans l&#039;Oeil du Silo
X-ORIGINAL-URL:https://www.dansloeildusilo.fr
X-WR-CALDESC:Évènements pour Dans l&#039;Oeil du Silo
REFRESH-INTERVAL;VALUE=DURATION:PT1H
X-Robots-Tag:noindex
X-PUBLISHED-TTL:PT1H
BEGIN:VTIMEZONE
TZID:Europe/Paris
BEGIN:DAYLIGHT
TZOFFSETFROM:+0100
TZOFFSETTO:+0200
TZNAME:CEST
DTSTART:20240331T010000
END:DAYLIGHT
BEGIN:STANDARD
TZOFFSETFROM:+0200
TZOFFSETTO:+0100
TZNAME:CET
DTSTART:20241027T010000
END:STANDARD
BEGIN:DAYLIGHT
TZOFFSETFROM:+0100
TZOFFSETTO:+0200
TZNAME:CEST
DTSTART:20250330T010000
END:DAYLIGHT
BEGIN:STANDARD
TZOFFSETFROM:+0200
TZOFFSETTO:+0100
TZNAME:CET
DTSTART:20251026T010000
END:STANDARD
BEGIN:DAYLIGHT
TZOFFSETFROM:+0100
TZOFFSETTO:+0200
TZNAME:CEST
DTSTART:20260329T010000
END:DAYLIGHT
BEGIN:STANDARD
TZOFFSETFROM:+0200
TZOFFSETTO:+0100
TZNAME:CET
DTSTART:20261025T010000
END:STANDARD
END:VTIMEZONE
BEGIN:VEVENT
DTSTART;TZID=Europe/Paris:20250419T090000
DTEND;TZID=Europe/Paris:20250419T233000
DTSTAMP:20260421T115939
CREATED:20241210T145202Z
LAST-MODIFIED:20251106T034043Z
UID:5086-1745053200-1745105400@www.dansloeildusilo.fr
SUMMARY:Festival VILLE[S]
DESCRIPTION:Regards croisés des sciences humaines sur la Ville\nConférences\,  ateliers\,  expo\, et  visites de terrain\n\nNotre objectif ?\nSaintes devient\, le temps d’une journée\, un lieu de rencontre unique où experts en sciences humaines\,\nsociales et artistiques  se réunissent pour :\n\n Partager leurs réflexions\,\n Présenter leurs travaux\,\n Confronter leurs points de vue.\n\nLe but ?  Contribuer au progrès des connaissances sur la ville et ses transformations \,\net transmettre ces savoirs au plus grand nombre. Ce forum accessible à tous éclaire le présent\net le futur des espaces urbains en explorant leurs identités sociales et culturelles.\n\n Notre programme ?\n\n Matin (9h-12h)\n\n4 sessions de conférences avec des spécialistes :\n\n Historien\,  géographe\,  urbaniste\,  architecte\,  archéologue\,\n  sociologue\,  anthropologue\,  historien de l’art\,  économiste…\nTous croisent leurs regards sur LA VILLE.\n\n Thème de cette 1ère édition : LA RECONSTRUCTION !\n\n Après-midi (14h-18h)\n\nUn village des partenaires\,\n Des ateliers pour mieux comprendre les mutations urbaines\,\nUne expo des Archives départementales\,\nDes visites de terrain pour observer concrètement ces transformations.\n\n Soirée (à partir de 20h)\n\nLa fête\, bien sûr  : Dans l’œil du Silo vous prépare un concert  et un DJ set  aux petits oignons !\n\n\n\nOn t’en dira bientôt plus sur nos invités…\n\nReste connecté !\n\n INFOS PRATIQUES \n\n Ouverture des portes à 9h\n Bar\n Restauration sur place\n 1h05 de Bordeaux\n1h de La Rochelle\n50 min de Niort\n1h de Angoulême\nAccès PMR\nMineurs acceptés avec accompagnant\n Fermeture du site à 2H00\, prévoyez un SAM\n\n Nous ne tolérons aucune forme de discriminations\, de harcèlement et de violences.Nous bannissons tout comportement RACISTE\, SEXISTE\, HOMOPHOBE\, TRANSPHOBE\net tout autre comportements OPPRESSIFS quels qu’ils soient.Si vous êtes témoin ou victime de comportements problématiques\, déplacés ou dangereux\,\nmerci de prévenir directement un membre du staff.
URL:https://www.dansloeildusilo.fr/index.php/event/festival-villes/
LOCATION:Dans l’œil du Silo\, 97 rue de Taillebourg\, Saintes\, Charente Maritime\, 17100\, France
CATEGORIES:inédit
ORGANIZER;CN="Dans l'%C5%93il du Silo":MAILTO:dansloeildusilo@gmail.com
END:VEVENT
BEGIN:VEVENT
DTSTART;TZID=Europe/Paris:20250426T180000
DTEND;TZID=Europe/Paris:20250426T233000
DTSTAMP:20260421T115939
CREATED:20250322T120932Z
LAST-MODIFIED:20251106T034024Z
UID:5130-1745690400-1745710200@www.dansloeildusilo.fr
SUMMARY:ÉCLOSION - RÉOUVERTURE DU SILO - TECHNO
DESCRIPTION: SOIRÉE FULL COLORS – 100% LIVE \n\n\n\n Samedi 26 Avril |  18h – 2h |  Le Silo (Nouvelle version !)\n\n\n\nAprès des mois de travaux\, Le Silo revient\, plus grand\, plus beau\, plus puissant ! ET BAM !\nPour marquer cette réouverture historique\, on vous a concocté une soirée flull Colors totalement immersive\, où chaque note\, chaque vibration sera jouée en live par des artistes passionnés.\n\n\n\n À QUOI S’ATTENDRE POUR CETTE SOIRÉE\n\n – – -Line UP 100% LIVE—\n– Un système son CODA / Nexo de chez APMAC (le même que pour La Boiler avant travaux\, on ait ce que tu aimes  )\n– Un tout nouveau Silo\, entièrement transformé !\n– Show lumière et ambiance SURPRISE\n– Nouveau bar\, dans une déco SURPRISE\n– Nouvelle T…….. SURPRISE spacieuse\n\n\n\nLe 26 avril\, note le bien dans ton agenda\, on fait péter le suspense !\n\n\n\nLINE-UP 100% LIVE \n\nMany Moons Later – House organic\nM.U.S.H – Mental Techno\nChabz & Ascender – Techno\nAcideamon- Acid Core\nButternut – HardTekno\n\nRetrouvez toutes les bios des artistes sur Facebook\n\n\n TARIFS\n\n Early Bird : 6€ ( 50 premières places à prix réduit ! )\n Préventes : 8 €\n Sur place : 10 € ( Tarif réduit à 8 € sur place pour les Étudiant\, Chômeur\, RSA – sur justificatif)\n\n\n\n Réservez dès maintenant sur HelloAsso et venez fêter la renaissance du Silo avec nous !\n\n\n\n  Billetterie\n\n\n\nINFOS PRATIQUES\n\nOuverture des portes à 18H\nFermeture du site à 2H\, prévoyez un SAM\n\nInterdiction de rentrer dans le silo avec son propre alcool CB accepté Bar ( prix doux )\n\nRestauration sur place – FOODTRUCK Végé\n97 Rue Taillebourg\, 17100 Saintes\n1h15 de Bordeaux\n50 min de La Rochelle\n50 min de Niort\n1h de Angoulême\n Gare SNCF à 10 min à pied\n Accès PL et SPL\n Acces PMR\nMineurs acceptés avec accompagnant\n\n\nEn cas de problème ne pas hésiter à vous adresser à un orga\, ou au bar. On sera là pour vous écouter et vous aider
URL:https://www.dansloeildusilo.fr/index.php/event/eclosion-reouverture-du-silo-techno/
LOCATION:Dans l’œil du Silo\, 97 rue de Taillebourg\, Saintes\, Charente Maritime\, 17100\, France
CATEGORIES:inédit
ORGANIZER;CN="Dans l'%C5%93il du Silo":MAILTO:dansloeildusilo@gmail.com
END:VEVENT
END:VCALENDAR